OziExplorer Map Data File Version 2.2
K-34-118-3.tif
.\K-34-118-3.tif
1 ,Map Code,
Pulkovo 1942 (1),WGS 84, 0.0000, 0.0000,WGS 84
Reserved 1
Reserved 2
Magnetic Variation,,,E
Map Projection,Transverse Mercator,PolyCal,No,AutoCalOnly,No,BSBUseWPX,No
Point01,xy, 203, 256,in, deg, 40, 50.0000,N, 22, 30.0000,E, grid, , , ,N
Point02,xy, 4347, 253,in, deg, 40, 50.0000,N, 22, 45.0000,E, grid, , , ,N
Point03,xy, 4355, 3909,in, deg, 40, 40.0000,N, 22, 45.0000,E, grid, , , ,N
Point04,xy, 197, 3909,in, deg, 40, 40.0000,N, 22, 30.0000,E, grid, , , ,N
Point05,xy, , ,in, deg, , ,N, , ,E, grid, , , ,N
Point06,xy, , ,in, deg, , ,N, , ,E, grid, , , ,N
Point07,xy, , ,in, deg, , ,N, , ,E, grid, , , ,N
Point08,xy, , ,in, deg, , ,N, , ,E, grid, , , ,N
Point09,xy, , ,in, deg, , ,N, , ,E, grid, , , ,N
Point10,xy, , ,in, deg, , ,N, , ,W, grid, , , ,N
Point11,xy, , ,in, deg, , ,N, , ,W, grid, , , ,N
Point12,xy, , ,in, deg, , ,N, , ,W, grid, , , ,N
Point13,xy, , ,in, deg, , ,N, , ,W, grid, , , ,N
Point14,xy, , ,in, deg, , ,N, , ,W, grid, , , ,N
Point15,xy, , ,in, deg, , ,N, , ,W, grid, , , ,N
Point16,xy, , ,in, deg, , ,N, , ,W, grid, , , ,N
Point17,xy, , ,in, deg, , ,N, , ,W, grid, , , ,N
Point18,xy, , ,in, deg, , ,N, , ,W, grid, , , ,N
Point19,xy, , ,in, deg, , ,N, , ,W, grid, , , ,N
Point20,xy, , ,in, deg, , ,N, , ,W, grid, , , ,N
Point21,xy, , ,in, deg, , ,N, , ,W, grid, , , ,N
Point22,xy, , ,in, deg, , ,N, , ,W, grid, , , ,N
Point23,xy, , ,in, deg, , ,N, , ,W, grid, , , ,N
Point24,xy, , ,in, deg, , ,N, , ,W, grid, , , ,N
Point25,xy, , ,in, deg, , ,N, , ,W, grid, , , ,N
Point26,xy, , ,in, deg, , ,N, , ,W, grid, , , ,N
Point27,xy, , ,in, deg, , ,N, , ,W, grid, , , ,N
Point28,xy, , ,in, deg, , ,N, , ,W, grid, , , ,N
Point29,xy, , ,in, deg, , ,N, , ,W, grid, , , ,N
Point30,xy, , ,in, deg, , ,N, , ,W, grid, , , ,N
Projection Setup, 0.000000000, 21.000000000, 1.000000000, 500000.00, 0.00,,,,,
Map Feature = MF ; Map Comment = MC These follow if they exist
Track File = TF These follow if they exist
Moving Map Parameters = MM? These follow if they exist
MM0,Yes
MMPNUM,4
MMPXY,1,203,256
MMPXY,2,4347,253
MMPXY,3,4355,3909
MMPXY,4,197,3909
MMPLL,1, 22.500055, 40.833302
MMPLL,2, 22.749945, 40.833365
MMPLL,3, 22.750054, 40.666635
MMPLL,4, 22.499945, 40.666698
MM1B,5.084644
Other Grid Setup
GRGRID,Yes,1 Km,Yes,16711680,255,No Labels,0,16777215,8,1,Yes,No,No,x
MOP,Map Open Position,0,0
IWH,Map Image Width/Height,4522,4300
